BEGIN:VCALENDAR
VERSION:2.0
PRODID:-//Washburn County - ECPv6.15.20//NONSGML v1.0//EN
CALSCALE:GREGORIAN
METHOD:PUBLISH
X-ORIGINAL-URL:https://co.washburn.wi.us
X-WR-CALDESC:Events for Washburn County
REFRESH-INTERVAL;VALUE=DURATION:PT1H
X-Robots-Tag:noindex
X-PUBLISHED-TTL:PT1H
BEGIN:VTIMEZONE
TZID:America/Chicago
BEGIN:DAYLIGHT
TZOFFSETFROM:-0600
TZOFFSETTO:-0500
TZNAME:CDT
DTSTART:20250309T080000
END:DAYLIGHT
BEGIN:STANDARD
TZOFFSETFROM:-0500
TZOFFSETTO:-0600
TZNAME:CST
DTSTART:20251102T070000
END:STANDARD
BEGIN:DAYLIGHT
TZOFFSETFROM:-0600
TZOFFSETTO:-0500
TZNAME:CDT
DTSTART:20260308T080000
END:DAYLIGHT
BEGIN:STANDARD
TZOFFSETFROM:-0500
TZOFFSETTO:-0600
TZNAME:CST
DTSTART:20261101T070000
END:STANDARD
BEGIN:DAYLIGHT
TZOFFSETFROM:-0600
TZOFFSETTO:-0500
TZNAME:CDT
DTSTART:20270314T080000
END:DAYLIGHT
BEGIN:STANDARD
TZOFFSETFROM:-0500
TZOFFSETTO:-0600
TZNAME:CST
DTSTART:20271107T070000
END:STANDARD
BEGIN:DAYLIGHT
TZOFFSETFROM:-0600
TZOFFSETTO:-0500
TZNAME:CDT
DTSTART:20280312T080000
END:DAYLIGHT
BEGIN:STANDARD
TZOFFSETFROM:-0500
TZOFFSETTO:-0600
TZNAME:CST
DTSTART:20281105T070000
END:STANDARD
END:VTIMEZONE
BEGIN:VEVENT
DTSTART;TZID=America/Chicago:20260420T080000
DTEND;TZID=America/Chicago:20260420T110000
DTSTAMP:20260423T033613
CREATED:20260415T211850Z
LAST-MODIFIED:20260415T211850Z
UID:10000496-1776672000-1776682800@co.washburn.wi.us
SUMMARY:Highway and Dam Committee
DESCRIPTION:Highway and Dam Committee
URL:https://co.washburn.wi.us/event/highway-and-dam-committee-12/
LOCATION:Highway Facility Meeting Room\, 1600 County Hwy H\, Spooner\, WI\, 54801\, United States
CATEGORIES:Highway & Dam Committee
END:VEVENT
BEGIN:VEVENT
DTSTART;TZID=America/Chicago:20260421T100000
DTEND;TZID=America/Chicago:20260421T140000
DTSTAMP:20260423T033613
CREATED:20260417T154826Z
LAST-MODIFIED:20260417T154826Z
UID:10000498-1776765600-1776780000@co.washburn.wi.us
SUMMARY:County Board of Supervisors
DESCRIPTION:County Board of Supervisors
URL:https://co.washburn.wi.us/event/county-board-of-supervisors-14/
LOCATION:County Board Room\, 304 2nd Street\, Shell Lake\, WI\, 54871\, United States
CATEGORIES:County Board of Supervisors
END:VEVENT
BEGIN:VEVENT
DTSTART;TZID=America/Chicago:20260422T093000
DTEND;TZID=America/Chicago:20260422T113000
DTSTAMP:20260423T033613
CREATED:20260417T154121Z
LAST-MODIFIED:20260417T154121Z
UID:10000497-1776850200-1776857400@co.washburn.wi.us
SUMMARY:Interview Committee
DESCRIPTION:Interview Committee
URL:https://co.washburn.wi.us/event/interview-committee-49/
LOCATION:HR/Finance Conference Room
CATEGORIES:Interview Committee
END:VEVENT
BEGIN:VEVENT
DTSTART;TZID=America/Chicago:20260427T090000
DTEND;TZID=America/Chicago:20260427T103000
DTSTAMP:20260423T033613
CREATED:20260422T192501Z
LAST-MODIFIED:20260422T192501Z
UID:10000503-1777280400-1777285800@co.washburn.wi.us
SUMMARY:Interview Committee
DESCRIPTION:Interview Committee
URL:https://co.washburn.wi.us/event/interview-committee-50/
LOCATION:HR/Finance Conference Room
CATEGORIES:Interview Committee
END:VEVENT
BEGIN:VEVENT
DTSTART;TZID=America/Chicago:20260427T090000
DTEND;TZID=America/Chicago:20260427T110000
DTSTAMP:20260423T033613
CREATED:20260420T193624Z
LAST-MODIFIED:20260420T193624Z
UID:10000499-1777280400-1777287600@co.washburn.wi.us
SUMMARY:Recycling Control Commission - 1400 S River Street\, Spooner
DESCRIPTION:Recycling Control Commission
URL:https://co.washburn.wi.us/event/recycling-control-commission-1400-s-river-street-spooner/
CATEGORIES:General Notice
END:VEVENT
BEGIN:VEVENT
DTSTART;VALUE=DATE:20260428
DTEND;VALUE=DATE:20260429
DTSTAMP:20260423T033613
CREATED:20260421T182503Z
LAST-MODIFIED:20260421T182503Z
UID:10000500-1777334400-1777420799@co.washburn.wi.us
SUMMARY:Zoning Committee Hearing
DESCRIPTION:Agenda 
URL:https://co.washburn.wi.us/event/zoning-committee-hearing-8/
LOCATION:County Board Room\, 304 2nd Street\, Shell Lake\, WI\, 54871\, United States
CATEGORIES:General Notice,Zoning Committee
END:VEVENT
BEGIN:VEVENT
DTSTART;TZID=America/Chicago:20260429T083000
DTEND;TZID=America/Chicago:20260429T103000
DTSTAMP:20260423T033613
CREATED:20260421T211950Z
LAST-MODIFIED:20260421T211950Z
UID:10000501-1777451400-1777458600@co.washburn.wi.us
SUMMARY:Solid Waste/Recycling Committee
DESCRIPTION:Solid Waste Recycling Committee
URL:https://co.washburn.wi.us/event/solid-waste-recycling-committee-4/
LOCATION:North Conference Room\, 304 2nd Street\, Shell Lake\, WI\, 54871\, United States
CATEGORIES:Solid Waste/Recycling Committee
END:VEVENT
BEGIN:VEVENT
DTSTART;TZID=America/Chicago:20260430T143000
DTEND;TZID=America/Chicago:20260430T163000
DTSTAMP:20260423T033613
CREATED:20260421T212512Z
LAST-MODIFIED:20260421T212512Z
UID:10000502-1777559400-1777566600@co.washburn.wi.us
SUMMARY:Transit Commission
DESCRIPTION:Transit Commission
URL:https://co.washburn.wi.us/event/transit-commission-5/
LOCATION:County Board Room\, 304 2nd Street\, Shell Lake\, WI\, 54871\, United States
CATEGORIES:Transit Commission
END:VEVENT
BEGIN:VEVENT
DTSTART;VALUE=DATE:20260525
DTEND;VALUE=DATE:20260526
DTSTAMP:20260423T033613
CREATED:20251215T162424Z
LAST-MODIFIED:20251215T162424Z
UID:10000384-1779696000-1779728400@co.washburn.wi.us
SUMMARY:County Holiday - County Offices Closed
DESCRIPTION:Washburn County Government Offices are closed in observance of a County Holiday.
URL:https://co.washburn.wi.us/event/county-holiday-county-offices-closed-8/2026-05-25/
CATEGORIES:General Notice,Holiday
END:VEVENT
BEGIN:VEVENT
DTSTART;VALUE=DATE:20260703
DTEND;VALUE=DATE:20260704
DTSTAMP:20260423T033613
CREATED:20251215T162424Z
LAST-MODIFIED:20251215T162424Z
UID:10000385-1783065600-1783098000@co.washburn.wi.us
SUMMARY:County Holiday - County Offices Closed
DESCRIPTION:Washburn County Government Offices are closed in observance of a County Holiday.
URL:https://co.washburn.wi.us/event/county-holiday-county-offices-closed-8/2026-07-03/
CATEGORIES:General Notice,Holiday
END:VEVENT
BEGIN:VEVENT
DTSTART;VALUE=DATE:20260907
DTEND;VALUE=DATE:20260908
DTSTAMP:20260423T033613
CREATED:20251215T162424Z
LAST-MODIFIED:20251215T162424Z
UID:10000386-1788768000-1788800400@co.washburn.wi.us
SUMMARY:County Holiday - County Offices Closed
DESCRIPTION:Washburn County Government Offices are closed in observance of a County Holiday.
URL:https://co.washburn.wi.us/event/county-holiday-county-offices-closed-8/2026-09-07/
CATEGORIES:General Notice,Holiday
END:VEVENT
BEGIN:VEVENT
DTSTART;VALUE=DATE:20261111
DTEND;VALUE=DATE:20261112
DTSTAMP:20260423T033613
CREATED:20251215T162424Z
LAST-MODIFIED:20251215T162424Z
UID:10000387-1794384000-1794416400@co.washburn.wi.us
SUMMARY:County Holiday - County Offices Closed
DESCRIPTION:Washburn County Government Offices are closed in observance of a County Holiday.
URL:https://co.washburn.wi.us/event/county-holiday-county-offices-closed-8/2026-11-11/
CATEGORIES:General Notice,Holiday
END:VEVENT
BEGIN:VEVENT
DTSTART;VALUE=DATE:20261126
DTEND;VALUE=DATE:20261127
DTSTAMP:20260423T033613
CREATED:20251215T162424Z
LAST-MODIFIED:20251215T162424Z
UID:10000388-1795680000-1795712400@co.washburn.wi.us
SUMMARY:County Holiday - County Offices Closed
DESCRIPTION:Washburn County Government Offices are closed in observance of a County Holiday.
URL:https://co.washburn.wi.us/event/county-holiday-county-offices-closed-8/2026-11-26/
CATEGORIES:General Notice,Holiday
END:VEVENT
BEGIN:VEVENT
DTSTART;VALUE=DATE:20261127
DTEND;VALUE=DATE:20261128
DTSTAMP:20260423T033613
CREATED:20251215T162424Z
LAST-MODIFIED:20251215T162424Z
UID:10000389-1795766400-1795798800@co.washburn.wi.us
SUMMARY:County Holiday - County Offices Closed
DESCRIPTION:Washburn County Government Offices are closed in observance of a County Holiday.
URL:https://co.washburn.wi.us/event/county-holiday-county-offices-closed-8/2026-11-27/
CATEGORIES:General Notice,Holiday
END:VEVENT
BEGIN:VEVENT
DTSTART;VALUE=DATE:20261224
DTEND;VALUE=DATE:20261225
DTSTAMP:20260423T033613
CREATED:20251215T162424Z
LAST-MODIFIED:20251215T162424Z
UID:10000390-1798099200-1798131600@co.washburn.wi.us
SUMMARY:County Holiday - County Offices Closed
DESCRIPTION:Washburn County Government Offices are closed in observance of a County Holiday.
URL:https://co.washburn.wi.us/event/county-holiday-county-offices-closed-8/2026-12-24/
CATEGORIES:General Notice,Holiday
END:VEVENT
BEGIN:VEVENT
DTSTART;VALUE=DATE:20270101
DTEND;VALUE=DATE:20270102
DTSTAMP:20260423T033613
CREATED:20251215T162424Z
LAST-MODIFIED:20251215T162424Z
UID:10000391-1798790400-1798822800@co.washburn.wi.us
SUMMARY:County Holiday - County Offices Closed
DESCRIPTION:Washburn County Government Offices are closed in observance of a County Holiday.
URL:https://co.washburn.wi.us/event/county-holiday-county-offices-closed-8/2027-01-01/
CATEGORIES:General Notice,Holiday
END:VEVENT
END:VCALENDAR