BEGIN:VCALENDAR
VERSION:2.0
PRODID:-//Washburn County - ECPv6.15.20//NONSGML v1.0//EN
CALSCALE:GREGORIAN
METHOD:PUBLISH
X-WR-CALNAME:Washburn County
X-ORIGINAL-URL:https://co.washburn.wi.us
X-WR-CALDESC:Events for Washburn County
REFRESH-INTERVAL;VALUE=DURATION:PT1H
X-Robots-Tag:noindex
X-PUBLISHED-TTL:PT1H
BEGIN:VTIMEZONE
TZID:America/Chicago
BEGIN:DAYLIGHT
TZOFFSETFROM:-0600
TZOFFSETTO:-0500
TZNAME:CDT
DTSTART:20240310T080000
END:DAYLIGHT
BEGIN:STANDARD
TZOFFSETFROM:-0500
TZOFFSETTO:-0600
TZNAME:CST
DTSTART:20241103T070000
END:STANDARD
BEGIN:DAYLIGHT
TZOFFSETFROM:-0600
TZOFFSETTO:-0500
TZNAME:CDT
DTSTART:20250309T080000
END:DAYLIGHT
BEGIN:STANDARD
TZOFFSETFROM:-0500
TZOFFSETTO:-0600
TZNAME:CST
DTSTART:20251102T070000
END:STANDARD
BEGIN:DAYLIGHT
TZOFFSETFROM:-0600
TZOFFSETTO:-0500
TZNAME:CDT
DTSTART:20260308T080000
END:DAYLIGHT
BEGIN:STANDARD
TZOFFSETFROM:-0500
TZOFFSETTO:-0600
TZNAME:CST
DTSTART:20261101T070000
END:STANDARD
END:VTIMEZONE
BEGIN:VTIMEZONE
TZID:UTC
BEGIN:STANDARD
TZOFFSETFROM:+0000
TZOFFSETTO:+0000
TZNAME:UTC
DTSTART:20240101T000000
END:STANDARD
END:VTIMEZONE
BEGIN:VEVENT
DTSTART;TZID=America/Chicago:20251006T093000
DTEND;TZID=America/Chicago:20251006T120000
DTSTAMP:20260425T110435
CREATED:20251002T150108Z
LAST-MODIFIED:20251002T150108Z
UID:10000315-1759743000-1759752000@co.washburn.wi.us
SUMMARY:Public Property and Land Sale
DESCRIPTION:Public Property and Land Sale
URL:https://co.washburn.wi.us/event/public-property-and-land-sale/
LOCATION:County Board Room\, 304 2nd Street\, Shell Lake\, WI\, 54871\, United States
CATEGORIES:Public Property & Land Sale Committee
END:VEVENT
BEGIN:VEVENT
DTSTART;TZID=America/Chicago:20250908T093000
DTEND;TZID=America/Chicago:20250908T120000
DTSTAMP:20260425T110435
CREATED:20250904T131242Z
LAST-MODIFIED:20250904T131242Z
UID:10000289-1757323800-1757332800@co.washburn.wi.us
SUMMARY:Public Property Committee
DESCRIPTION:Public Property Committee
URL:https://co.washburn.wi.us/event/public-property-committee-5/
LOCATION:County Board Room\, 304 2nd Street\, Shell Lake\, WI\, 54871\, United States
CATEGORIES:Public Property & Land Sale Committee
END:VEVENT
BEGIN:VEVENT
DTSTART;TZID=America/Chicago:20250811T093000
DTEND;TZID=America/Chicago:20250811T120000
DTSTAMP:20260425T110435
CREATED:20250807T174136Z
LAST-MODIFIED:20250807T174136Z
UID:10000257-1754904600-1754913600@co.washburn.wi.us
SUMMARY:Public Property Committee
DESCRIPTION:Public Property
URL:https://co.washburn.wi.us/event/public-property-committee-4/
LOCATION:County Board Room\, 304 2nd Street\, Shell Lake\, WI\, 54871\, United States
CATEGORIES:Public Property & Land Sale Committee
END:VEVENT
BEGIN:VEVENT
DTSTART;TZID=America/Chicago:20250707T093000
DTEND;TZID=America/Chicago:20250707T120000
DTSTAMP:20260425T110435
CREATED:20250630T140432Z
LAST-MODIFIED:20250630T140432Z
UID:10000220-1751880600-1751889600@co.washburn.wi.us
SUMMARY:Public Property
DESCRIPTION:Public Property
URL:https://co.washburn.wi.us/event/public-property-3/
LOCATION:County Board Room\, 304 2nd Street\, Shell Lake\, WI\, 54871\, United States
CATEGORIES:Public Property & Land Sale Committee
END:VEVENT
BEGIN:VEVENT
DTSTART;TZID=America/Chicago:20250602T093000
DTEND;TZID=America/Chicago:20250602T120000
DTSTAMP:20260425T110435
CREATED:20250530T134426Z
LAST-MODIFIED:20250530T134426Z
UID:10000187-1748856600-1748865600@co.washburn.wi.us
SUMMARY:Public Property
DESCRIPTION:Public Property
URL:https://co.washburn.wi.us/event/public-property-2/
LOCATION:County Board Room\, 304 2nd Street\, Shell Lake\, WI\, 54871\, United States
CATEGORIES:Public Property & Land Sale Committee
END:VEVENT
BEGIN:VEVENT
DTSTART;TZID=America/Chicago:20250505T093000
DTEND;TZID=America/Chicago:20250505T113000
DTSTAMP:20260425T110435
CREATED:20250501T163342Z
LAST-MODIFIED:20250501T163342Z
UID:10000163-1746437400-1746444600@co.washburn.wi.us
SUMMARY:Public Property
DESCRIPTION:Public Property
URL:https://co.washburn.wi.us/event/public-property/
LOCATION:County Board Room\, 304 2nd Street\, Shell Lake\, WI\, 54871\, United States
CATEGORIES:Public Property & Land Sale Committee
END:VEVENT
BEGIN:VEVENT
DTSTART;TZID=America/Chicago:20250407T093000
DTEND;TZID=America/Chicago:20250407T123000
DTSTAMP:20260425T110435
CREATED:20250404T155053Z
LAST-MODIFIED:20250404T155053Z
UID:10000134-1744018200-1744029000@co.washburn.wi.us
SUMMARY:Public Property Committee - Spooner Wellness Center 50+
DESCRIPTION:Public Property Agenda
URL:https://co.washburn.wi.us/event/public-property-committee-spooner-wellness-center-50/
LOCATION:WI
CATEGORIES:Public Property & Land Sale Committee
END:VEVENT
BEGIN:VEVENT
DTSTART;TZID=America/Chicago:20250407T093000
DTEND;TZID=America/Chicago:20250407T120000
DTSTAMP:20260425T110435
CREATED:20250409T141525Z
LAST-MODIFIED:20250409T141525Z
UID:10000141-1744018200-1744027200@co.washburn.wi.us
SUMMARY:Public Property Committee - Spooner Wellness Center 50+
DESCRIPTION:Agenda Draft 4.7.25
URL:https://co.washburn.wi.us/event/public-property-committee-spooner-wellness-center-50-2/
LOCATION:WI
CATEGORIES:Public Property & Land Sale Committee
END:VEVENT
BEGIN:VEVENT
DTSTART;TZID=America/Chicago:20250303T093000
DTEND;TZID=America/Chicago:20250303T123000
DTSTAMP:20260425T110435
CREATED:20250227T184454Z
LAST-MODIFIED:20250227T184454Z
UID:10000095-1740994200-1741005000@co.washburn.wi.us
SUMMARY:Public Property Agenda
DESCRIPTION:Public Property Agenda
URL:https://co.washburn.wi.us/event/public-property-agenda/
LOCATION:County Board Room\, 304 2nd Street\, Shell Lake\, WI\, 54871\, United States
CATEGORIES:Public Property & Land Sale Committee
END:VEVENT
BEGIN:VEVENT
DTSTART;TZID=America/Chicago:20250203T093000
DTEND;TZID=America/Chicago:20250203T120000
DTSTAMP:20260425T110435
CREATED:20250130T165636Z
LAST-MODIFIED:20250130T165636Z
UID:10000059-1738575000-1738584000@co.washburn.wi.us
SUMMARY:Public Property Committee
DESCRIPTION:Public Property Agenda
URL:https://co.washburn.wi.us/event/public-property-committee-3/
LOCATION:County Board Room\, 304 2nd Street\, Shell Lake\, WI\, 54871\, United States
CATEGORIES:Public Property & Land Sale Committee
END:VEVENT
BEGIN:VEVENT
DTSTART;TZID=UTC:20250106T093000
DTEND;TZID=UTC:20250106T113000
DTSTAMP:20260425T110435
CREATED:20250101T003645Z
LAST-MODIFIED:20250102T015524Z
UID:10000026-1736155800-1736163000@co.washburn.wi.us
SUMMARY:Public Property Committee
DESCRIPTION:
URL:https://co.washburn.wi.us/event/public-property-committee-2/
LOCATION:County Board Room\, 304 2nd Street\, Shell Lake\, WI\, 54871\, United States
CATEGORIES:Public Property & Land Sale Committee
END:VEVENT
END:VCALENDAR